BEGIN:VCALENDAR
VERSION:2.0
PRODID:-//Tukios.com/
BEGIN:VEVENT
UID:52a5c86c-86e1-4388-8f73-0694d89f0806@www.bledsoefuneralhome.com
DTSTAMP:20260424T095733Z
DTSTART:20260430T170000Z
DTEND:20260430T230000Z
SUMMARY:Visitation
DESCRIPTION:
URL:https://www.bledsoefuneralhome.com/obituaries/ann-clark
LOCATION: 256 Middleton Street  Jackson TN 38301
GEO:35.6265698;-88.8045073
END:VEVENT
END:VCALENDAR