BEGIN:VCALENDAR
VERSION:2.0
PRODID:-//Tukios.com/
BEGIN:VEVENT
UID:90422fca-1ad0-4c87-9ed7-31bf516d345c@www.bledsoefuneralhome.com
DTSTAMP:20260424T095432Z
DTSTART:20260501T180000Z
DTEND:20260501T190000Z
SUMMARY:Funeral Service
DESCRIPTION:
URL:https://www.bledsoefuneralhome.com/obituaries/ann-clark
LOCATION: 360 Martin Luther King Jr Dr.  Jackson TN 38301
GEO:35.6084802;-88.8141816
END:VEVENT
END:VCALENDAR