BEGIN:VCALENDAR
VERSION:2.0
PRODID:-//Tukios.com/
BEGIN:VEVENT
UID:614fbea8-69c7-419f-b302-db4041288c81@www.bledsoefuneralhome.com
DTSTAMP:20260424T101446Z
DTSTART:20260501T170000Z
DTEND:20260501T230000Z
SUMMARY:Visitation
DESCRIPTION:
URL:https://www.bledsoefuneralhome.com/obituaries/mary-bond-watkins
LOCATION: 256 Middleton Street  Jackson TN 38301
GEO:35.6265698;-88.8045073
END:VEVENT
END:VCALENDAR