BEGIN:VCALENDAR
VERSION:2.0
PRODID:-//Tukios.com/
BEGIN:VEVENT
UID:c8c4ecc4-fd12-4e2c-8cd2-6a9aeacfb9bb@www.bledsoefuneralhome.com
DTSTAMP:20260424T101259Z
DTSTART:20260502T180000Z
DTEND:20260502T190000Z
SUMMARY:Funeral Service
DESCRIPTION:
URL:https://www.bledsoefuneralhome.com/obituaries/mary-bond-watkins
LOCATION: 282 Middleton Street  Jackson TN 38301
GEO:35.6274774;-88.8044613
END:VEVENT
END:VCALENDAR